BEGIN:VCALENDAR
VERSION:2.0
PRODID:-//wp-events-plugin.com//7.2.3.1//EN
BEGIN:VEVENT
UID:4@geide-flohmaerkte.com
DTSTART:20130303T050000Z
DTEND:20130303T150000Z
DTSTAMP:20130206T172401Z
URL:https://geide-flohmaerkte.com/events/kieler-umschlag-flohmarkt-am-boot
 shafen/
SUMMARY:Kieler Umschlag Flohmarkt am Bootshafen
DESCRIPTION:\nDer erste richtige Outdoor Flohmarkt des Jahres in Kiel. Trö
 del wie zu Asmus Zeiten! Wir erwarten mit Freude auch unseren Altbürgerme
 ister Asmus Bremer zu Besuch. Wird es "erwartungsgemäß" noch etwas frost
 ig\, halten wir selbstverständlich heiße Getränke sowie verschiedene K
 östlichkeiten "in die Hand" für unsere Besucher vor. In den vergangenen 
 Jahren fand dieser Flohmarkt zwar (Bild oben) auf dem Rathausmarkt statt\,
  wir sind aber sicher\, mit der Platzierung am Bootshafen den richtigen Sc
 hritt gemacht haben um für Aussteller und Besucher einen sehr attraktiven
  Platz anzubieten.
ATTACH;FMTTYPE=image/jpeg:https://geide-flohmaerkte.com/wp-content/uploads
 /ku_kl_qua.jpg
CATEGORIES:Outdoor
LOCATION:\, \, 
GEO:54.321169;10.138615
X-APPLE-STRUCTURED-LOCATION;VALUE=URI;X-ADDRESS=\, ;X-APPLE-RADIUS=100;X-TI
 TLE=:geo:54.321169,10.138615
END:VEVENT
END:VCALENDAR