BEGIN:VCALENDAR
VERSION:2.0
PRODID:-//wp-events-plugin.com//7.2.3.1//EN
BEGIN:VEVENT
UID:44@geide-flohmaerkte.com
DTSTART:20201025T050000Z
DTEND:20201025T150000Z
DTSTAMP:20200916T182648Z
URL:https://geide-flohmaerkte.com/events/flohmarkt-kaufland-3/
SUMMARY:Flohmarkt Kaufland
DESCRIPTION:Größtenteils überdacht und diese Plätze auch noch mit PKW S
 tellplatz dabei - so etwas muß man lange suchen.\nAls zusätzlicher neuer
  Standort\, zukünftig bestimmt gerne aufgesucht von Verkäufern und Besuc
 hern.\n\nHier wird man auch bei typischem "Kieler Wetter" nicht naß und m
 an kann sich dem Flohmarktvergnügen hingeben. Wenn der Innenbereich gefü
 llt sein sollte\, haben wir noch genug Plätze im Außenbereich zur Verfü
 gung\, diese dann allerdings dann "Open Air" und ohne Wetterschutz.
CATEGORIES:Outdoor
LOCATION:Kaufland Kiel Mettenhof\, Skandinaviendamm 299\, 24109 Kiel\, Deut
 schland
GEO:54.320139;10.05177
X-APPLE-STRUCTURED-LOCATION;VALUE=URI;X-ADDRESS=Skandinaviendamm 299\, 2410
 9 Kiel\, Deutschland;X-APPLE-RADIUS=100;X-TITLE=Kaufland Kiel Mettenhof:ge
 o:54.320139,10.05177
END:VEVENT
END:VCALENDAR