BEGIN:VCALENDAR
VERSION:2.0
PRODID:-//wp-events-plugin.com//7.2.3.1//EN
BEGIN:VEVENT
UID:6@geide-flohmaerkte.com
DTSTART:20220320T050000Z
DTEND:20220320T150000Z
DTSTAMP:20220320T110544Z
URL:https://geide-flohmaerkte.com/events/flohmarkt-famila-wik/
SUMMARY:Flohmarkt famila Wik
DESCRIPTION:Größtenteils überdacht und diese Plätze auch noch mit koste
 nlosem PKW Stellplatz dahinter - so etwas muß man lange suchen. Hoch freq
 uentiert ist dieser Flohmarkt bereits eine Institution\, immer wieder gern
 e besucht von Verkäufern und Besuchern. Hier wird man auch etwas bei typi
 schem "Kieler Wetter". Und wenn doch die Sonne vom Kieler Himmel brennt\, 
 steht es sich sehr angenehm unter einem Sonnendach.\n\nAus gegebenem Anlas
 s:\n\nBereits reservierte Plätze sind NICHT TAUSCHBAR! Ausnahmen können 
 lediglich durch den Veranstalter kurzfristig vor Ort entschieden werden.\n
 \nPlatzreservierungen sind absolut verbindlich und werden nur in begründe
 ten belegbaren Ausnahmefällen storniert. In allen anderen Fällen erfolgt
  keine Rückerstattung.\n\nPlätze sind nur buchbar ab einer Mindestlänge
  von 4 Metern\, dies entspricht genau einem Stand.\n\nBitte bringen Sie zu
 m Flohmarkt eine ausgedruckte Zahlungsbestätigung mit\, per Smartphone wi
 rd nicht anerkannt.
CATEGORIES:Outdoor
LOCATION:Famila Markt Kiel-Wik\, Prinz-Heinrich-Straße 20\, 24106 Kiel\, D
 eutschland
GEO:54.359952;10.131793
X-APPLE-STRUCTURED-LOCATION;VALUE=URI;X-ADDRESS=Prinz-Heinrich-Straße 20\,
  24106 Kiel\, Deutschland;X-APPLE-RADIUS=100;X-TITLE=Famila Markt Kiel-Wik
 :geo:54.359952,10.131793
END:VEVENT
END:VCALENDAR